BEGIN:VCALENDAR
VERSION:2.0
PRODID:-//Turun Pursiseura ry - ECPv6.15.20//NONSGML v1.0//EN
CALSCALE:GREGORIAN
METHOD:PUBLISH
X-ORIGINAL-URL:https://turunpursiseura.fi
X-WR-CALDESC:Tapahtumat Turun Pursiseura ry
REFRESH-INTERVAL;VALUE=DURATION:PT1H
X-Robots-Tag:noindex
X-PUBLISHED-TTL:PT1H
BEGIN:VTIMEZONE
TZID:Europe/Helsinki
BEGIN:DAYLIGHT
TZOFFSETFROM:+0200
TZOFFSETTO:+0300
TZNAME:EEST
DTSTART:20250330T010000
END:DAYLIGHT
BEGIN:STANDARD
TZOFFSETFROM:+0300
TZOFFSETTO:+0200
TZNAME:EET
DTSTART:20251026T010000
END:STANDARD
BEGIN:DAYLIGHT
TZOFFSETFROM:+0200
TZOFFSETTO:+0300
TZNAME:EEST
DTSTART:20260329T010000
END:DAYLIGHT
BEGIN:STANDARD
TZOFFSETFROM:+0300
TZOFFSETTO:+0200
TZNAME:EET
DTSTART:20261025T010000
END:STANDARD
BEGIN:DAYLIGHT
TZOFFSETFROM:+0200
TZOFFSETTO:+0300
TZNAME:EEST
DTSTART:20270328T010000
END:DAYLIGHT
BEGIN:STANDARD
TZOFFSETFROM:+0300
TZOFFSETTO:+0200
TZNAME:EET
DTSTART:20271031T010000
END:STANDARD
END:VTIMEZONE
BEGIN:VEVENT
DTSTART;TZID=Europe/Helsinki:20260112T180000
DTEND;TZID=Europe/Helsinki:20260112T200000
DTSTAMP:20260419T184938
CREATED:20251210T122042Z
LAST-MODIFIED:20251210T122042Z
UID:10000176-1768240800-1768248000@turunpursiseura.fi
SUMMARY:Kilpapurjehdusilta
DESCRIPTION:Kilpapurjehdusilta Turun Pursiseuralla\, HB-salissa. \nKevään teemoja ovat mm: \n\n\nAtlantin yli – kisatarinoita ja tulevia projekteja\n\n\nVixenin MM-tarina & kisareissun suunnittelu\n\n\nPurjemateriaalit ja trimmit\n\n\nTiistaikisat\, kilpailusäännöt & gastipörssi\n\n\nAvomeripurjehdus\n\n\nTämän illan teema päivittyy myöhemmin.
URL:https://turunpursiseura.fi/event/kilpapurjehdusilta-3/
CATEGORIES:Kilpailut
END:VEVENT
BEGIN:VEVENT
DTSTART;TZID=Europe/Helsinki:20260121T180000
DTEND;TZID=Europe/Helsinki:20260121T200000
DTSTAMP:20260419T184938
CREATED:20251203T135302Z
LAST-MODIFIED:20251203T135302Z
UID:10000174-1769018400-1769025600@turunpursiseura.fi
SUMMARY:Koulutusilta - Väylä- ja merikarttauudistus ja väylien hoito
DESCRIPTION:N2000 Väylä- ja merikarttauudistus\, Henrika Björkell-Virta\, Traficom \nPäivitetty Merikarttasarja D Turunmaan saaristo ilmestyy vuonna 2026.\nMitä tarkoittaa N2000? Miten se vaikuttaa veneilyyn?\nMitä muita uudistuksia merikortissa on?\n \nVesiväylien hoito ja ylläpito Suomessa\, Joonatan Ahlroos\, Väylävirasto\n\nMiten vesiväyliä hoidetaan?\nMillä tavalla väyliä ylläpidetään?\nPitääkö viallisista merenkulun turvalaitteista ilmoittaa ja minne?\nMitä uutta merimerkkirintamalla?\n\nTule kuulemaan vastaukset keskiviikkona 21.01.2026 klo 18 Turun Pursiseuran Bang-saliin.\n\n\n\n\n\n\n\n\n\n\nIlmoittaudu Lyytissä ->
URL:https://turunpursiseura.fi/event/koulutusilta-vayla-ja-merikarttauudistus-ja-vaylien-hoito/
CATEGORIES:Kurssit ja koulutukset
END:VEVENT
BEGIN:VEVENT
DTSTART;TZID=Europe/Helsinki:20260129T180000
DTEND;TZID=Europe/Helsinki:20260129T200000
DTSTAMP:20260419T184938
CREATED:20260115T082828Z
LAST-MODIFIED:20260115T091011Z
UID:10000187-1769709600-1769716800@turunpursiseura.fi
SUMMARY:Eskaaderien suunnitteluilta
DESCRIPTION:Tervetuloa kuulemaan vuoden 2026 eskaaderisuunnitelmista HB-saliin Ruissaloon.\n\n\nTänä vuonna järjestetään kaksi eskaaderia\, joista toinen on lyhyempi ja lähempänä kotivesia ja toinen suuntaa Ruotsiin Höga Kustenille. Aikataulut ja reitit ovat vielä osittain avoinna.\n\nTule tuomaan oma mielipiteesi\, vaikuta aikatauluun ja reittiin.\n\n\nIlmoittautumislinkki tapahtumaan\n\nTervetuloa\,\nJussi\, Miska ja Miro
URL:https://turunpursiseura.fi/event/eskaaderien-suunnitteluilta/
CATEGORIES:Matkaveneilytapahtumat
END:VEVENT
END:VCALENDAR